BEGIN:VCALENDAR
VERSION:2.0
PRODID:-//CRVBMW Riders - ECPv6.14.2//NONSGML v1.0//EN
CALSCALE:GREGORIAN
METHOD:PUBLISH
X-WR-CALNAME:CRVBMW Riders
X-ORIGINAL-URL:https://crvbmw.waypointsmedia.com
X-WR-CALDESC:Events for CRVBMW Riders
REFRESH-INTERVAL;VALUE=DURATION:PT1H
X-Robots-Tag:noindex
X-PUBLISHED-TTL:PT1H
BEGIN:VTIMEZONE
TZID:America/New_York
BEGIN:DAYLIGHT
TZOFFSETFROM:-0500
TZOFFSETTO:-0400
TZNAME:EDT
DTSTART:20250309T070000
END:DAYLIGHT
BEGIN:STANDARD
TZOFFSETFROM:-0400
TZOFFSETTO:-0500
TZNAME:EST
DTSTART:20251102T060000
END:STANDARD
END:VTIMEZONE
BEGIN:VEVENT
DTSTART;TZID=America/New_York:20250725T070000
DTEND;TZID=America/New_York:20250727T170000
DTSTAMP:20260422T094841
CREATED:20250424T173735Z
LAST-MODIFIED:20250424T174315Z
UID:3442-1753426800-1753635600@crvbmw.waypointsmedia.com
SUMMARY:2025 AMA Vintage Motorcycle Days
DESCRIPTION:Featuring America’s largest motorcycle swap meet\, national championship vintage racing\, bike shows\, retro-oriented vendors\, and so much more\, AMA Vintage Motorcycle Days is a bucket-list event for vintage bike lovers everywhere. Don’t miss it!
URL:https://crvbmw.waypointsmedia.com/event/2025-ama-vintage-motorcycle-days/
LOCATION:Mid-Ohio Sports Car Course\, 7721 Lexington Steam Corners Rd\, Lexington\, Ohio\, 44904\, United States
END:VEVENT
BEGIN:VEVENT
DTSTART;TZID=America/New_York:20250725T110000
DTEND;TZID=America/New_York:20250727T110000
DTSTAMP:20260422T094841
CREATED:20250306T174237Z
LAST-MODIFIED:20250424T174445Z
UID:3202-1753441200-1753614000@crvbmw.waypointsmedia.com
SUMMARY:2025 Lime Rock Rally by Yankee Beemers
DESCRIPTION:Ride\, Camp\, Eat and Kick tires with the YB’s at Lime Rock Raceway. Scott Raebler hosts the 2025 YB Lime Rock Rally! (srabeler@hotmail.com). \n\n\n\nFriday just happens to be National Motorcycle Day and it’s the 100th anniversary of BMW Motorrad!.There is a MAX Track Day Saturday Morning (sign up through MAX BMW)The rally is right in some of the best\, twisty scenic riding you will find anywhere! \n\n\n\nCamp out under a canopy of trees overlooking one of the most beautiful race courses in the East and arise to the hum of the cars on the track. Explore beautiful ribbons of asphalt in North Western Connecticut and across the border into New York State and the Catskills. Visit the new Motorcyclepedia museum in Newburgh\, NY. At Lime Rock Park\, you will have access to the Park\, the concession and refreshment stands\, the paddocks\, hot showers and close-by restrooms. Saturday night\, we will provide a grill and we will have coffee in the morning. Event is from 11AM Friday until 11AM Sunday. Fee is $45 in advance $50 at the gate\, via Paypal at https://www.yankeebeemers.org or mail check toYankee Beemers\, P.O. Box 2151\, Fitchburg\, MA 01420\, Re: Lime Rockz.Rally Chairs: \n\n\n\nScott RaeblerBill Cusack \n\n\n\n\nClick Here to Sign Up
URL:https://crvbmw.waypointsmedia.com/event/lime-rock-rally-by-yankeebeemers/
LOCATION:Lime Rock Park\, 60 White Hollow Rd\, Lakeville\, Connecticut\, 06039
END:VEVENT
END:VCALENDAR