BEGIN:VCALENDAR
VERSION:2.0
PRODID:-//CRVBMW Riders - ECPv6.14.2//NONSGML v1.0//EN
CALSCALE:GREGORIAN
METHOD:PUBLISH
X-WR-CALNAME:CRVBMW Riders
X-ORIGINAL-URL:https://crvbmw.waypointsmedia.com
X-WR-CALDESC:Events for CRVBMW Riders
REFRESH-INTERVAL;VALUE=DURATION:PT1H
X-Robots-Tag:noindex
X-PUBLISHED-TTL:PT1H
BEGIN:VTIMEZONE
TZID:America/New_York
BEGIN:DAYLIGHT
TZOFFSETFROM:-0500
TZOFFSETTO:-0400
TZNAME:EDT
DTSTART:20250309T070000
END:DAYLIGHT
BEGIN:STANDARD
TZOFFSETFROM:-0400
TZOFFSETTO:-0500
TZNAME:EST
DTSTART:20251102T060000
END:STANDARD
END:VTIMEZONE
BEGIN:VEVENT
DTSTART;TZID=America/New_York:20250823T080000
DTEND;TZID=America/New_York:20250823T160000
DTSTAMP:20260422T094842
CREATED:20250728T171536Z
LAST-MODIFIED:20250730T182437Z
UID:3527-1755936000-1755964800@crvbmw.waypointsmedia.com
SUMMARY:2025 Dream Ride Experience - 25th Anniversary
DESCRIPTION:What began as a small\, 12-person motorcycle ride in 2000 has grown into The Dream Ride Experience — a three-day celebration and a year-round movement known as #DreamRide365\, all in honor of our Dream Riders—individuals with intellectual disabilities or in need. \n\n\n\nDespite its incredible growth\, Dream Ride remains true to its roots\, continuing the tradition that started it all: the annual motorcycle ride. Now one of Connecticut’s largest police-escorted rides\, this can’t-miss event takes place on Saturday of Dream Ride Weekend. \n\n\n\nThousands of motorcyclists from across the region come together to enjoy the camaraderie of the open road\, riding through the scenic Farmington River Valley\, all while raising critical funds for The Hometown Foundation\, Inc. It’s the premiere motorcycle event of the year — blending passion\, purpose\, and community. \n\n\n\nWe can’t wait to see you there — ride often\, ride safe\, and be part of the Dream! \n\n\n\n\nRegister Here !
URL:https://crvbmw.waypointsmedia.com/event/2025-dream-ride/
LOCATION:Farmington Polo Grounds\, 152 - 162 Town Farm Rd\, Farmington\, Connecticut\, 06032\, United States
ATTACH;FMTTYPE=image/jpeg:https://crvbmw.waypointsmedia.com/wp-content/uploads/2025/07/2025-Dream-Ride-scaled.jpeg
END:VEVENT
END:VCALENDAR