BEGIN:VCALENDAR
VERSION:2.0
PRODID:-//CRVBMW Riders - ECPv6.14.2//NONSGML v1.0//EN
CALSCALE:GREGORIAN
METHOD:PUBLISH
X-WR-CALNAME:CRVBMW Riders
X-ORIGINAL-URL:https://crvbmw.waypointsmedia.com
X-WR-CALDESC:Events for CRVBMW Riders
REFRESH-INTERVAL;VALUE=DURATION:PT1H
X-Robots-Tag:noindex
X-PUBLISHED-TTL:PT1H
BEGIN:VTIMEZONE
TZID:America/New_York
BEGIN:DAYLIGHT
TZOFFSETFROM:-0500
TZOFFSETTO:-0400
TZNAME:EDT
DTSTART:20250309T070000
END:DAYLIGHT
BEGIN:STANDARD
TZOFFSETFROM:-0400
TZOFFSETTO:-0500
TZNAME:EST
DTSTART:20251102T060000
END:STANDARD
END:VTIMEZONE
BEGIN:VEVENT
DTSTART;TZID=America/New_York:20250828T120000
DTEND;TZID=America/New_York:20250831T120000
DTSTAMP:20260422T094724
CREATED:20241211T230530Z
LAST-MODIFIED:20250329T135859Z
UID:3076-1756382400-1756641600@crvbmw.waypointsmedia.com
SUMMARY:2025 BMW RA National Rally - MotoStoria: Riding Into History
DESCRIPTION:The 2025 BMW RA rally will be held at the Athens County Fairgrounds in Athens\, OH \n\n\n\nMeet Voni & Paul Glaves at the BMW RA Rally! – Voni Glaves is one of only two women to have ridden over one million miles on a BMW motorcycle—and behind every one of those miles was her husband and mechanic\, Paul\, keeping her bikes roadworthy. Voni’s journey started in the 1970s when she didn’t even realize women could ride motorcycles. With Paul’s encouragement\, she learned to ride so they could take their kids on motorcycle camping adventures \n\n\n\nTom Asher Adventure Rider Academy – Tom Asher returns with his off-road and slow-speed skills training to help you ride with confidence and control. Whether you’re new to dirt or refining your skills\, don’t miss this chance to learn from one of the best!
URL:https://crvbmw.waypointsmedia.com/event/2025-bmw-ra-national-rally/
LOCATION:Athens County Fairgrounds\, 286 W Union St\, Athens\, Ohio\, 45701
ATTACH;FMTTYPE=image/png:https://crvbmw.waypointsmedia.com/wp-content/uploads/2024/12/BMWRARallyHorizontal-600H.png
END:VEVENT
END:VCALENDAR