BEGIN:VCALENDAR
VERSION:2.0
PRODID:-//CRVBMW Riders - ECPv6.14.2//NONSGML v1.0//EN
CALSCALE:GREGORIAN
METHOD:PUBLISH
X-ORIGINAL-URL:https://crvbmw.waypointsmedia.com
X-WR-CALDESC:Events for CRVBMW Riders
REFRESH-INTERVAL;VALUE=DURATION:PT1H
X-Robots-Tag:noindex
X-PUBLISHED-TTL:PT1H
BEGIN:VTIMEZONE
TZID:America/New_York
BEGIN:DAYLIGHT
TZOFFSETFROM:-0500
TZOFFSETTO:-0400
TZNAME:EDT
DTSTART:20250309T070000
END:DAYLIGHT
BEGIN:STANDARD
TZOFFSETFROM:-0400
TZOFFSETTO:-0500
TZNAME:EST
DTSTART:20251102T060000
END:STANDARD
BEGIN:DAYLIGHT
TZOFFSETFROM:-0500
TZOFFSETTO:-0400
TZNAME:EDT
DTSTART:20260308T070000
END:DAYLIGHT
BEGIN:STANDARD
TZOFFSETFROM:-0400
TZOFFSETTO:-0500
TZNAME:EST
DTSTART:20261101T060000
END:STANDARD
END:VTIMEZONE
BEGIN:VEVENT
DTSTART;TZID=America/New_York:20251019T130000
DTEND;TZID=America/New_York:20251019T143000
DTSTAMP:20260422T080412
CREATED:20250828T003314Z
LAST-MODIFIED:20250828T003315Z
UID:3595-1760878800-1760884200@crvbmw.waypointsmedia.com
SUMMARY:2025 October Club Meeting
DESCRIPTION:Come join us in the countryside of eastern Connecticut. If the weather is nice\, we will be dining outside on the patio. \n\n\n\nWe will share fun stories from our time at the September Picnic and will discuss the Executive Committee positions as we will be voting next month on our officers for next year. \n\n\n\nAs we lost 2 of our longtime officers this year\, we need members to run for any of the Executive Committee positions to keep our club active. We don’t ask too much of our officers\, but do need to fill all of the positions so we can continue directing the club in the right direction. Please consider running for one of the many positions. If interested\, go to the Contact Us page on our website\, provide your name and which position you want to run for or email the information to president@crvbmw.org. \n\n\n\nPositions are:PresidentVice PresidentSecretaryTreasurerRoad CaptainAssistant Road CaptainMember-at-Large \n\n\n\nPlan to arrive early for the October meeting if you wish to enjoy lunch from a menu with a nice variety of meal choices. \n\n\n\nAs usual\, our meeting will begin at 1:00 PM. \n\n\n\nI hope to see you there.
URL:https://crvbmw.waypointsmedia.com/event/2025-october-club-meeting/
LOCATION:Blackledge Country Club\, 180 West Street\, Hebron\, Connecticut
END:VEVENT
BEGIN:VEVENT
DTSTART;TZID=America/New_York:20251109T130000
DTEND;TZID=America/New_York:20251109T150000
DTSTAMP:20260422T080412
CREATED:20250825T001438Z
LAST-MODIFIED:20250825T002154Z
UID:3586-1762693200-1762700400@crvbmw.waypointsmedia.com
SUMMARY:2025 November Club Meeting - Voting for 2026 Executive Committee Members
DESCRIPTION:Once again\, it’s time to vote for our club officers for next year\, 2026. Come to the meeting and cast your vote for the members that you feel best support the club. \n\n\n\nWe are always looking for members to step up and offer their knowledge\, perspective and support\, especially this year as we lost 2 of our longtime officers (Brian Fisk and Chris Jennings) and are looking for people to fill those positions. Please consider putting your name in for one of the several positions on our Executive Committee. If interested\, go to the Contact Us page on our website\, provide your name and which position you want to run for or email the information to president@crvbmw.org. \n\n\n\nPositions are:PresidentVice PresidentSecretaryTreasurerRoad CaptainAssistant Road CaptainMember-at-Large \n\n\n\nResponsibilities for each of the positions are listed in our By-Laws which are available on our website under the heading About CRVBMW. \n\n\n\nAs usual\, plan to arrive early as pizzas and salads\, paid for by the club\, will be ready before the meeting begins.
URL:https://crvbmw.waypointsmedia.com/event/2025-november-club-meeting-voting-for-2026-executive-committee-members/
LOCATION:George’s Pizza & Restaurant\, 9 School Street\, Unionville\, CT\, 06085\, United States
END:VEVENT
BEGIN:VEVENT
DTSTART;TZID=America/New_York:20260611T100000
DTEND;TZID=America/New_York:20260613T170000
DTSTAMP:20260422T080412
CREATED:20250906T154555Z
LAST-MODIFIED:20250906T160718Z
UID:3634-1781172000-1781370000@crvbmw.waypointsmedia.com
SUMMARY:2026 BMW MOA VERMONT VIBES National Rally
DESCRIPTION:The BMW MOA has another great rally planned the 2026 in Essex\, Vermont. \n\n\n\nRegistration for the 2026 BMW MOA National Rally is open. Click below to register. \n\n\n\nMore information forthcoming. Click on the Rally Info link below to go the rally website. \n\n\n\n\nRegister Now – Early Registration Special August 1 – Dec 31\, 2025 \n\n\n\n\n\n\n\n\n\nMOA Rally Info
URL:https://crvbmw.waypointsmedia.com/event/2025-bmw-moa-national-rally-2/
LOCATION:Champlain Valley Exposition\, 105 Pearl Street\, Essex\, Vermont\, 05452\, United States
END:VEVENT
END:VCALENDAR